BEGIN:VCALENDAR
VERSION:2.0
PRODID:-//eventon.com NONSGML v1.0//EN
BEGIN:VEVENT
UID:69e8c7c89c28b
DTSTAMP:20260422T150616
DTSTART:20260506T080000Z
DTEND:20260506T215000Z
LOCATION:Parc Noisette 
SUMMARY:Fête du jeu - Mercredi 6 mai 2026
DESCRIPTION: Fête du jeu - Mercredi 6 mai 2026
URL:https://poce-sur-cisse.fr/events/fete-du-jeu-mercredi-7-mai-2025/
END:VEVENT
END:VCALENDAR