BEGIN:VCALENDAR
VERSION:2.0
PRODID:-//eventon.com NONSGML v1.0//EN
BEGIN:VEVENT
UID:69e61238b27a6
DTSTAMP:20260420T134704
DTSTART:20260503T070000Z
DTEND:20260503T215000Z
LOCATION:Terrain de foot\,  parking du gymnase 
SUMMARY:Brocante - Vide grenier
DESCRIPTION: Accueil des visiteurs à partir de 7h30 De nombreux exposants vous proposent une grande diversité d'objets dans une ambiance conviviale. Petite restauration sur place.
URL:https://poce-sur-cisse.fr/events/brocante-vide-grenier-sous-reserve/
END:VEVENT
END:VCALENDAR