BEGIN:VCALENDAR
VERSION:2.0
PRODID:-//eventon.com NONSGML v1.0//EN
BEGIN:VEVENT
UID:69eb7ed293016
DTSTAMP:20260424T163146
DTSTART:20260508T074500Z
DTEND:20260508T215000Z
LOCATION:Monument aux morts 
SUMMARY:Commémoration du 8 mai
DESCRIPTION: Départ à 9h45 de la place de la Mairie. Dépôt de gerbe au monument aux morts.
URL:https://poce-sur-cisse.fr/events/commemoration-sous-reserve/
END:VEVENT
END:VCALENDAR